BEGIN:VCALENDAR
VERSION:2.0
PRODID:-//Rhyll Phillip Island Angling Club - ECPv6.3.3.1//NONSGML v1.0//EN
CALSCALE:GREGORIAN
METHOD:PUBLISH
X-WR-CALNAME:Rhyll Phillip Island Angling Club
X-ORIGINAL-URL:https://www.rpiac.com
X-WR-CALDESC:Events for Rhyll Phillip Island Angling Club
REFRESH-INTERVAL;VALUE=DURATION:PT1H
X-Robots-Tag:noindex
X-PUBLISHED-TTL:PT1H
BEGIN:VTIMEZONE
TZID:UTC
BEGIN:STANDARD
TZOFFSETFROM:+0000
TZOFFSETTO:+0000
TZNAME:UTC
DTSTART:20200101T000000
END:STANDARD
END:VTIMEZONE
BEGIN:VEVENT
DTSTART;TZID=UTC:20200111T000000
DTEND;TZID=UTC:20200112T173000
DTSTAMP:20260423T082937
CREATED:20191026T175120Z
LAST-MODIFIED:20191026T175120Z
UID:2372-1578700800-1578850200@www.rpiac.com
SUMMARY:Angling Competition
DESCRIPTION:An Angling Competition will be held on Saturday January 11th to Sunday January 12th. \nWeigh In 4:30 pm to 5:30 pm Saturday and Sunday \nWinner announcements will be followed by a BBQ dinner. \nAll members must be financial to be eligible for competitions
URL:https://www.rpiac.com/event/angling-competition-41/
END:VEVENT
BEGIN:VEVENT
DTSTART;TZID=UTC:20200118T170000
DTEND;TZID=UTC:20200118T210000
DTSTAMP:20260423T082937
CREATED:20191208T220514Z
LAST-MODIFIED:20191208T220514Z
UID:2430-1579366800-1579381200@www.rpiac.com
SUMMARY:2020 Sunset Cruise
DESCRIPTION:Following the success of last year’s sunset cruise on the Kasey Lee the event has again been booked. \nSaturday January 18th\, 2019 \n5:00pm to 9:00pm \nCost. $50 per person \nThis is a financial members only event. \nLimited number so bookings are required and will only be confirmed on payment.
URL:https://www.rpiac.com/event/2020-sunset-cruise/
LOCATION:Rhyll Jetty
END:VEVENT
END:VCALENDAR