BEGIN:VCALENDAR
VERSION:2.0
PRODID:-//Rhyll Phillip Island Angling Club - ECPv6.3.3.1//NONSGML v1.0//EN
CALSCALE:GREGORIAN
METHOD:PUBLISH
X-WR-CALNAME:Rhyll Phillip Island Angling Club
X-ORIGINAL-URL:https://www.rpiac.com
X-WR-CALDESC:Events for Rhyll Phillip Island Angling Club
REFRESH-INTERVAL;VALUE=DURATION:PT1H
X-Robots-Tag:noindex
X-PUBLISHED-TTL:PT1H
BEGIN:VTIMEZONE
TZID:UTC
BEGIN:STANDARD
TZOFFSETFROM:+0000
TZOFFSETTO:+0000
TZNAME:UTC
DTSTART:20190101T000000
END:STANDARD
END:VTIMEZONE
BEGIN:VEVENT
DTSTART;TZID=UTC:20191207T000000
DTEND;TZID=UTC:20191208T173000
DTSTAMP:20260423T100002
CREATED:20191026T175020Z
LAST-MODIFIED:20191026T175020Z
UID:2370-1575676800-1575826200@www.rpiac.com
SUMMARY:Angling Competition
DESCRIPTION:An Angling Competition will be held on Saturday December 7th to Sunday December 8th. \nWeigh In 4:30 pm to 5:30 pm Saturday and Sunday \nWinner announcements will be followed by a BBQ dinner. \nAll members must be financial to be eligible for competitions
URL:https://www.rpiac.com/event/angling-competition-40/
END:VEVENT
BEGIN:VEVENT
DTSTART;TZID=UTC:20191213T170000
DTEND;TZID=UTC:20191213T220000
DTSTAMP:20260423T100002
CREATED:20191208T220748Z
LAST-MODIFIED:20191208T220748Z
UID:2432-1576256400-1576274400@www.rpiac.com
SUMMARY:Members Xmas Break Up
DESCRIPTION:The members Xmas Break Up will be held on December 13th\, 2019. \nThis event is for Financial Members Only. \nPlease bring a salad or dessert to be shared. \nMeat and Seafood provided. \n 
URL:https://www.rpiac.com/event/members-xmas-break-up/
LOCATION:RPIAC Clubrooms\, Beach Road\, Rhyll\, 3923\, Australia
END:VEVENT
END:VCALENDAR