BEGIN:VCALENDAR
VERSION:2.0
PRODID:-//Rhyll Phillip Island Angling Club - ECPv6.3.3.1//NONSGML v1.0//EN
CALSCALE:GREGORIAN
METHOD:PUBLISH
X-WR-CALNAME:Rhyll Phillip Island Angling Club
X-ORIGINAL-URL:https://www.rpiac.com
X-WR-CALDESC:Events for Rhyll Phillip Island Angling Club
REFRESH-INTERVAL;VALUE=DURATION:PT1H
X-Robots-Tag:noindex
X-PUBLISHED-TTL:PT1H
BEGIN:VTIMEZONE
TZID:UTC
BEGIN:STANDARD
TZOFFSETFROM:+0000
TZOFFSETTO:+0000
TZNAME:UTC
DTSTART:20190101T000000
END:STANDARD
END:VTIMEZONE
BEGIN:VEVENT
DTSTART;TZID=UTC:20190112T000000
DTEND;TZID=UTC:20190113T173000
DTSTAMP:20260424T034028
CREATED:20180829T210204Z
LAST-MODIFIED:20180829T210204Z
UID:2097-1547251200-1547400600@www.rpiac.com
SUMMARY:Angling Competition
DESCRIPTION:An Angling Competition will be held on Saturday January 12th to Sunday January 13th. \nWeigh In 4:30 pm to 5:30 pm Saturday and Sunday \nWinner announcements will be followed by a BBQ dinner. \nAll members must be financial to be eligible for competitions.
URL:https://www.rpiac.com/event/angling-competition-29/
LOCATION:RPIAC Clubrooms\, Beach Road\, Rhyll\, 3923\, Australia
END:VEVENT
BEGIN:VEVENT
DTSTART;TZID=UTC:20190119T170000
DTEND;TZID=UTC:20190119T210000
DTSTAMP:20260424T034028
CREATED:20181127T120238Z
LAST-MODIFIED:20181127T120307Z
UID:2139-1547917200-1547931600@www.rpiac.com
SUMMARY:Sunset Cruise
DESCRIPTION:The Committee has chartered the Kasey Lee for a Sunset Cruise to replace the Men’s and Ladies’s fishing charter. \nFinger Food will be provided and drinks can be purchased at bar prices. \nThere will be limited numbers so payment must be made to secure your booking. Please see John Duthie or Mick Toovey for bookings or email rhyllpiac@gmail.com \nThis is a Members Only Event.
URL:https://www.rpiac.com/event/sunset-cruise/
LOCATION:Rhyll Jetty
END:VEVENT
END:VCALENDAR