BEGIN:VCALENDAR
VERSION:2.0
PRODID:-//Rhyll Phillip Island Angling Club - ECPv6.3.3.1//NONSGML v1.0//EN
CALSCALE:GREGORIAN
METHOD:PUBLISH
X-ORIGINAL-URL:https://www.rpiac.com
X-WR-CALDESC:Events for Rhyll Phillip Island Angling Club
REFRESH-INTERVAL;VALUE=DURATION:PT1H
X-Robots-Tag:noindex
X-PUBLISHED-TTL:PT1H
BEGIN:VTIMEZONE
TZID:UTC
BEGIN:STANDARD
TZOFFSETFROM:+0000
TZOFFSETTO:+0000
TZNAME:UTC
DTSTART:20180101T000000
END:STANDARD
END:VTIMEZONE
BEGIN:VEVENT
DTSTART;TZID=UTC:20181208T000000
DTEND;TZID=UTC:20181209T173000
DTSTAMP:20260424T050600
CREATED:20180829T210107Z
LAST-MODIFIED:20180829T210107Z
UID:2095-1544227200-1544376600@www.rpiac.com
SUMMARY:Angling Competition
DESCRIPTION:An Angling Competition will be held on Saturday December 8th to Sunday December 9th. \nWeigh In 4:30 pm to 5:30 pm Saturday and Sunday \nWinner announcements will be followed by a BBQ dinner. \nAll members must be financial to be eligible for competitions.
URL:https://www.rpiac.com/event/angling-competition-28/
LOCATION:RPIAC Clubrooms\, Beach Road\, Rhyll\, 3923\, Australia
END:VEVENT
BEGIN:VEVENT
DTSTART;TZID=UTC:20181214T170000
DTEND;TZID=UTC:20181214T220000
DTSTAMP:20260424T050600
CREATED:20181127T115752Z
LAST-MODIFIED:20181127T115752Z
UID:2137-1544806800-1544824800@www.rpiac.com
SUMMARY:Xmas Break Up
DESCRIPTION:Members Xmas Break Up will be held on Friday December 14th\, 2018. \nThis is a Member’s only event. \nMembers are asked to provide a salad or dessert for the night. \nPlease indicate what you will be providing on the lists provided in the clubroom or via email. \nThank You
URL:https://www.rpiac.com/event/xmas-break-up/
LOCATION:RPIAC Clubrooms\, Beach Road\, Rhyll\, 3923\, Australia
END:VEVENT
END:VCALENDAR