BEGIN:VCALENDAR
VERSION:2.0
PRODID:-//Rhyll Phillip Island Angling Club - ECPv6.3.3.1//NONSGML v1.0//EN
CALSCALE:GREGORIAN
METHOD:PUBLISH
X-ORIGINAL-URL:https://www.rpiac.com
X-WR-CALDESC:Events for Rhyll Phillip Island Angling Club
REFRESH-INTERVAL;VALUE=DURATION:PT1H
X-Robots-Tag:noindex
X-PUBLISHED-TTL:PT1H
BEGIN:VTIMEZONE
TZID:UTC
BEGIN:STANDARD
TZOFFSETFROM:+0000
TZOFFSETTO:+0000
TZNAME:UTC
DTSTART:20180101T000000
END:STANDARD
END:VTIMEZONE
BEGIN:VEVENT
DTSTART;TZID=UTC:20180922T000000
DTEND;TZID=UTC:20180923T173000
DTSTAMP:20260424T090641
CREATED:20180829T205206Z
LAST-MODIFIED:20180829T205213Z
UID:2086-1537574400-1537723800@www.rpiac.com
SUMMARY:Angling Competition
DESCRIPTION:Saturday September 22nd – Sunday September 23rd is our 1st Angling Competition for the season. \nWeigh In 4:30 pm to 5:30 pm Saturday and Sunday \nWinner announcements will be followed by a BBQ dinner.
URL:https://www.rpiac.com/event/angling-competition-24/
LOCATION:RPIAC Clubrooms\, Beach Road\, Rhyll\, 3923\, Australia
END:VEVENT
BEGIN:VEVENT
DTSTART;TZID=UTC:20180929T130000
DTEND;TZID=UTC:20180929T180000
DTSTAMP:20260424T090641
CREATED:20180829T211139Z
LAST-MODIFIED:20180829T211139Z
UID:2111-1538226000-1538244000@www.rpiac.com
SUMMARY:AFL Grand Final Day
DESCRIPTION:Come along and watch the AFL Grand Final at the Club Rooms and enjoy the atmosphere. \nThis year’s Grand Final will be a joint event with the Rhyll Cricket Club. \nTimes and details to be advised.
URL:https://www.rpiac.com/event/afl-grand-final-day/
END:VEVENT
END:VCALENDAR