BEGIN:VCALENDAR
VERSION:2.0
PRODID:-//Rhyll Phillip Island Angling Club - ECPv6.3.3.1//NONSGML v1.0//EN
CALSCALE:GREGORIAN
METHOD:PUBLISH
X-WR-CALNAME:Rhyll Phillip Island Angling Club
X-ORIGINAL-URL:https://www.rpiac.com
X-WR-CALDESC:Events for Rhyll Phillip Island Angling Club
REFRESH-INTERVAL;VALUE=DURATION:PT1H
X-Robots-Tag:noindex
X-PUBLISHED-TTL:PT1H
BEGIN:VTIMEZONE
TZID:UTC
BEGIN:STANDARD
TZOFFSETFROM:+0000
TZOFFSETTO:+0000
TZNAME:UTC
DTSTART:20200101T000000
END:STANDARD
END:VTIMEZONE
BEGIN:VEVENT
DTSTART;TZID=UTC:20200208T000000
DTEND;TZID=UTC:20200209T173000
DTSTAMP:20260423T082920
CREATED:20191026T175352Z
LAST-MODIFIED:20191026T175352Z
UID:2374-1581120000-1581269400@www.rpiac.com
SUMMARY:Angling Competition
DESCRIPTION:An Angling Competition will be held on Saturday February 8th to Sunday February 9th. \nWeigh In 4:30 pm to 5:30 pm Saturday and Sunday \nWinner announcements will be followed by a BBQ dinner. \nAll members must be financial to be eligible for competitions
URL:https://www.rpiac.com/event/angling-competition-42/
END:VEVENT
END:VCALENDAR