BEGIN:VCALENDAR
VERSION:2.0
PRODID:-//Rhyll Phillip Island Angling Club - ECPv6.3.3.1//NONSGML v1.0//EN
CALSCALE:GREGORIAN
METHOD:PUBLISH
X-WR-CALNAME:Rhyll Phillip Island Angling Club
X-ORIGINAL-URL:https://www.rpiac.com
X-WR-CALDESC:Events for Rhyll Phillip Island Angling Club
REFRESH-INTERVAL;VALUE=DURATION:PT1H
X-Robots-Tag:noindex
X-PUBLISHED-TTL:PT1H
BEGIN:VTIMEZONE
TZID:UTC
BEGIN:STANDARD
TZOFFSETFROM:+0000
TZOFFSETTO:+0000
TZNAME:UTC
DTSTART:20190101T000000
END:STANDARD
END:VTIMEZONE
BEGIN:VEVENT
DTSTART;TZID=UTC:20191122T160000
DTEND;TZID=UTC:20191122T190000
DTSTAMP:20260423T130210
CREATED:20191112T142023Z
LAST-MODIFIED:20191112T142023Z
UID:2392-1574438400-1574449200@www.rpiac.com
SUMMARY:Rhyll boating facility upgrade community consultation
DESCRIPTION:Date: Friday 22 November \nTime: 4pm-7pm \nLocation: The Rhyll boat ramp near the Rhyll-Phillip Island Angling Club\, Beach Rd\, Rhyll\, 3923 \nFor more information about Better Boating Victoria\, visit: www.betterboating.vic.gov.au
URL:https://www.rpiac.com/event/rhyll-boating-facility-upgrade-community-consultation/
LOCATION:RPIAC Clubrooms\, Beach Road\, Rhyll\, 3923\, Australia
END:VEVENT
END:VCALENDAR