BEGIN:VCALENDAR
VERSION:2.0
PRODID:-//Rhyll Phillip Island Angling Club - ECPv6.3.3.1//NONSGML v1.0//EN
CALSCALE:GREGORIAN
METHOD:PUBLISH
X-ORIGINAL-URL:https://www.rpiac.com
X-WR-CALDESC:Events for Rhyll Phillip Island Angling Club
REFRESH-INTERVAL;VALUE=DURATION:PT1H
X-Robots-Tag:noindex
X-PUBLISHED-TTL:PT1H
BEGIN:VTIMEZONE
TZID:UTC
BEGIN:STANDARD
TZOFFSETFROM:+0000
TZOFFSETTO:+0000
TZNAME:UTC
DTSTART:20190101T000000
END:STANDARD
END:VTIMEZONE
BEGIN:VEVENT
DTSTART;TZID=UTC:20190811T140000
DTEND;TZID=UTC:20190811T170000
DTSTAMP:20260423T182203
CREATED:20190529T201709Z
LAST-MODIFIED:20190529T201709Z
UID:2291-1565532000-1565542800@www.rpiac.com
SUMMARY:2019 Annual General Meeting
DESCRIPTION:The 2019 Annual General Meeting will be held at the Club rooms on August 11th\, 2019. \nFull details to be advised.
URL:https://www.rpiac.com/event/2019-annual-general-meeting/
LOCATION:RPIAC Clubrooms\, Beach Road\, Rhyll\, 3923\, Australia
END:VEVENT
END:VCALENDAR