BEGIN:VCALENDAR
VERSION:2.0
PRODID:-//Rhyll Phillip Island Angling Club - ECPv6.3.3.1//NONSGML v1.0//EN
CALSCALE:GREGORIAN
METHOD:PUBLISH
X-ORIGINAL-URL:https://www.rpiac.com
X-WR-CALDESC:Events for Rhyll Phillip Island Angling Club
REFRESH-INTERVAL;VALUE=DURATION:PT1H
X-Robots-Tag:noindex
X-PUBLISHED-TTL:PT1H
BEGIN:VTIMEZONE
TZID:UTC
BEGIN:STANDARD
TZOFFSETFROM:+0000
TZOFFSETTO:+0000
TZNAME:UTC
DTSTART:20180101T000000
END:STANDARD
END:VTIMEZONE
BEGIN:VEVENT
DTSTART;TZID=UTC:20181106T120000
DTEND;TZID=UTC:20181106T180000
DTSTAMP:20260424T074627
CREATED:20180829T211248Z
LAST-MODIFIED:20180829T211248Z
UID:2113-1541505600-1541527200@www.rpiac.com
SUMMARY:Melbourne Cup Day
DESCRIPTION:The club will hold an event of Melbourne Cup Day with sweeps for all races and plenty of fun. \nTimes to be advised.
URL:https://www.rpiac.com/event/melbourne-cup-day-3/
LOCATION:RPIAC Clubrooms\, Beach Road\, Rhyll\, 3923\, Australia
END:VEVENT
END:VCALENDAR